BEGIN:VCALENDAR
PRODID:-//eluceo/ical//2.0/EN
VERSION:2.0
CALSCALE:GREGORIAN
BEGIN:VEVENT
UID:0942bbe9b81c637aec1ba815d87644b9
DTSTAMP:20260423T205751Z
SUMMARY:JCMI Bridge
DESCRIPTION:Jewish Federation of Greater Naples\nCommunity Calendar\nhttps:
 //jewishnaples.org/calendar/calendar1198\n\n&nbsp
DTSTART;TZID=America/New_York:20150408T130000
DTEND;TZID=America/New_York:20150408T130000
END:VEVENT
END:VCALENDAR
