BEGIN:VCALENDAR
PRODID:-//eluceo/ical//2.0/EN
VERSION:2.0
CALSCALE:GREGORIAN
BEGIN:VEVENT
UID:8e230ac20276b5b1d36ad367a528e790
DTSTAMP:20260421T230546Z
SUMMARY:JCMI Bridge
DESCRIPTION:Jewish Federation of Greater Naples\nCommunity Calendar\nhttps:
 //jewishnaples.org/calendar/calendar1196\n\n&nbsp
DTSTART;TZID=America/New_York:20150325T130000
DTEND;TZID=America/New_York:20150325T130000
END:VEVENT
END:VCALENDAR
