BEGIN:VCALENDAR
PRODID:-//eluceo/ical//2.0/EN
VERSION:2.0
CALSCALE:GREGORIAN
BEGIN:VEVENT
UID:685e65974f0414d8e32c3ee70f8cb064
DTSTAMP:20260424T125503Z
SUMMARY:JCMI Bridge
DESCRIPTION:Jewish Federation of Greater Naples\nCommunity Calendar\nhttps:
 //jewishnaples.org/calendar/calendar1193\n\n&nbsp
DTSTART;TZID=America/New_York:20150304T130000
DTEND;TZID=America/New_York:20150304T130000
END:VEVENT
END:VCALENDAR
