BEGIN:VCALENDAR
PRODID:-//eluceo/ical//2.0/EN
VERSION:2.0
CALSCALE:GREGORIAN
BEGIN:VEVENT
UID:bcf52ec0b685afbf57e38c0cc240032e
DTSTAMP:20260423T194018Z
SUMMARY:JCMI Bridge
DESCRIPTION:Jewish Federation of Greater Naples\nCommunity Calendar\nhttps:
 //jewishnaples.org/calendar/calendar1188\n\n&nbsp
DTSTART;TZID=America/New_York:20150128T130000
DTEND;TZID=America/New_York:20150128T130000
END:VEVENT
END:VCALENDAR
