BEGIN:VCALENDAR
PRODID:-//eluceo/ical//2.0/EN
VERSION:2.0
CALSCALE:GREGORIAN
BEGIN:VEVENT
UID:c787d6a474520d7b532b9f8b032490ea
DTSTAMP:20260421T232200Z
SUMMARY:JCMI Bridge
DESCRIPTION:Jewish Federation of Greater Naples\nCommunity Calendar\nhttps:
 //jewishnaples.org/calendar/calendar1181\n\n&nbsp
DTSTART;TZID=America/New_York:20141210T130000
DTEND;TZID=America/New_York:20141210T130000
END:VEVENT
END:VCALENDAR
