BEGIN:VCALENDAR
PRODID:-//eluceo/ical//2.0/EN
VERSION:2.0
CALSCALE:GREGORIAN
BEGIN:VEVENT
UID:0ad43ed2cf18e0fb8cc1c67fce464004
DTSTAMP:20260423T123849Z
SUMMARY:JCMI S.H. Fundraiser
DESCRIPTION:Jewish Federation of Greater Naples\nCommunity Calendar\nhttps:
 //jewishnaples.org/calendar/calendar118\n\n&nbsp
DTSTART;TZID=America/New_York:20150221T190000
DTEND;TZID=America/New_York:20150221T190000
END:VEVENT
END:VCALENDAR
