BEGIN:VCALENDAR
PRODID:-//eluceo/ical//2.0/EN
VERSION:2.0
CALSCALE:GREGORIAN
BEGIN:VEVENT
UID:5dae6568c05fc60cfe0294eb818a8a33
DTSTAMP:20260422T203553Z
SUMMARY:JCMI Bridge
DESCRIPTION:Jewish Federation of Greater Naples\nCommunity Calendar\nhttps:
 //jewishnaples.org/calendar/calendar1178\n\n&nbsp
DTSTART;TZID=America/New_York:20141119T130000
DTEND;TZID=America/New_York:20141119T130000
END:VEVENT
END:VCALENDAR
