BEGIN:VCALENDAR
PRODID:-//eluceo/ical//2.0/EN
VERSION:2.0
CALSCALE:GREGORIAN
BEGIN:VEVENT
UID:a00ef0fbde1df42a0b5016d48b96a8ea
DTSTAMP:20260422T004904Z
SUMMARY:JCMI Bridge
DESCRIPTION:Jewish Federation of Greater Naples\nCommunity Calendar\nhttps:
 //jewishnaples.org/calendar/calendar1176\n\n&nbsp
DTSTART;TZID=America/New_York:20141105T130000
DTEND;TZID=America/New_York:20141105T130000
END:VEVENT
END:VCALENDAR
