BEGIN:VCALENDAR
PRODID:-//eluceo/ical//2.0/EN
VERSION:2.0
CALSCALE:GREGORIAN
BEGIN:VEVENT
UID:28fa41f67031e258aab3ea3cfb9fb8f5
DTSTAMP:20260423T210941Z
SUMMARY:JCMI Bridge
DESCRIPTION:Jewish Federation of Greater Naples\nCommunity Calendar\nhttps:
 //jewishnaples.org/calendar/calendar1174\n\n&nbsp
DTSTART;TZID=America/New_York:20141022T130000
DTEND;TZID=America/New_York:20141022T130000
END:VEVENT
END:VCALENDAR
