BEGIN:VCALENDAR
PRODID:-//eluceo/ical//2.0/EN
VERSION:2.0
CALSCALE:GREGORIAN
BEGIN:VEVENT
UID:0a3962ac59c6ad76246a59c373943a9a
DTSTAMP:20260423T180016Z
SUMMARY:JCMI Bridge
DESCRIPTION:Jewish Federation of Greater Naples\nCommunity Calendar\nhttps:
 //jewishnaples.org/calendar/calendar1173\n\n&nbsp
DTSTART;TZID=America/New_York:20141015T130000
DTEND;TZID=America/New_York:20141015T130000
END:VEVENT
END:VCALENDAR
