BEGIN:VCALENDAR
PRODID:-//eluceo/ical//2.0/EN
VERSION:2.0
CALSCALE:GREGORIAN
BEGIN:VEVENT
UID:213a70a3c33b5d19f392115176dc2ee5
DTSTAMP:20260422T172447Z
SUMMARY:JCMI Bridge
DESCRIPTION:Jewish Federation of Greater Naples\nCommunity Calendar\nhttps:
 //jewishnaples.org/calendar/calendar1168\n\n&nbsp
DTSTART;TZID=America/New_York:20140910T130000
DTEND;TZID=America/New_York:20140910T130000
END:VEVENT
END:VCALENDAR
