BEGIN:VCALENDAR
PRODID:-//eluceo/ical//2.0/EN
VERSION:2.0
CALSCALE:GREGORIAN
BEGIN:VEVENT
UID:53a770c85f38c3aef39f5ad9e5474d6a
DTSTAMP:20260423T160507Z
SUMMARY:JCMI Bridge
DESCRIPTION:Jewish Federation of Greater Naples\nCommunity Calendar\nhttps:
 //jewishnaples.org/calendar/calendar1166\n\n&nbsp
DTSTART;TZID=America/New_York:20140827T130000
DTEND;TZID=America/New_York:20140827T130000
END:VEVENT
END:VCALENDAR
