BEGIN:VCALENDAR
PRODID:-//eluceo/ical//2.0/EN
VERSION:2.0
CALSCALE:GREGORIAN
BEGIN:VEVENT
UID:0a434acdaa7ea7190e0a9dd07b5770d3
DTSTAMP:20260422T173637Z
SUMMARY:JCMI Bridge
DESCRIPTION:Jewish Federation of Greater Naples\nCommunity Calendar\nhttps:
 //jewishnaples.org/calendar/calendar1165\n\n&nbsp
DTSTART;TZID=America/New_York:20140820T130000
DTEND;TZID=America/New_York:20140820T130000
END:VEVENT
END:VCALENDAR
