BEGIN:VCALENDAR
PRODID:-//eluceo/ical//2.0/EN
VERSION:2.0
CALSCALE:GREGORIAN
BEGIN:VEVENT
UID:a555f2a4794ae773c4871eb9fa4edeca
DTSTAMP:20260422T154029Z
SUMMARY:JCMI Bridge
DESCRIPTION:Jewish Federation of Greater Naples\nCommunity Calendar\nhttps:
 //jewishnaples.org/calendar/calendar1164\n\n&nbsp
DTSTART;TZID=America/New_York:20140813T130000
DTEND;TZID=America/New_York:20140813T130000
END:VEVENT
END:VCALENDAR
