BEGIN:VCALENDAR
PRODID:-//eluceo/ical//2.0/EN
VERSION:2.0
CALSCALE:GREGORIAN
BEGIN:VEVENT
UID:c63dcfd5aa9057f6d58ef326593f0ab5
DTSTAMP:20260423T195701Z
SUMMARY:JCMI Bridge
DESCRIPTION:Jewish Federation of Greater Naples\nCommunity Calendar\nhttps:
 //jewishnaples.org/calendar/calendar1160\n\n&nbsp
DTSTART;TZID=America/New_York:20140716T130000
DTEND;TZID=America/New_York:20140716T130000
END:VEVENT
END:VCALENDAR
