BEGIN:VCALENDAR
PRODID:-//eluceo/ical//2.0/EN
VERSION:2.0
CALSCALE:GREGORIAN
BEGIN:VEVENT
UID:100a822b8867fd187dd4b40b742ccd34
DTSTAMP:20260423T085851Z
SUMMARY:JCMI Bridge
DESCRIPTION:Jewish Federation of Greater Naples\nCommunity Calendar\nhttps:
 //jewishnaples.org/calendar/calendar1159\n\n&nbsp
DTSTART;TZID=America/New_York:20140709T130000
DTEND;TZID=America/New_York:20140709T130000
END:VEVENT
END:VCALENDAR
