BEGIN:VCALENDAR
PRODID:-//eluceo/ical//2.0/EN
VERSION:2.0
CALSCALE:GREGORIAN
BEGIN:VEVENT
UID:072a841e6b3c339b42aed44bf04cf7c8
DTSTAMP:20260423T112653Z
SUMMARY:JCMI Bridge
DESCRIPTION:Jewish Federation of Greater Naples\nCommunity Calendar\nhttps:
 //jewishnaples.org/calendar/calendar1158\n\n&nbsp
DTSTART;TZID=America/New_York:20140702T130000
DTEND;TZID=America/New_York:20140702T130000
END:VEVENT
END:VCALENDAR
