BEGIN:VCALENDAR
PRODID:-//eluceo/ical//2.0/EN
VERSION:2.0
CALSCALE:GREGORIAN
BEGIN:VEVENT
UID:9de86d825c8363e87d5116eae8226662
DTSTAMP:20260423T092604Z
SUMMARY:JCMI Mah Jongg
DESCRIPTION:Jewish Federation of Greater Naples\nCommunity Calendar\nhttps:
 //jewishnaples.org/calendar/calendar1149\n\n&nbsp
DTSTART;TZID=America/New_York:20150430T110000
DTEND;TZID=America/New_York:20150430T110000
END:VEVENT
END:VCALENDAR
