BEGIN:VCALENDAR
PRODID:-//eluceo/ical//2.0/EN
VERSION:2.0
CALSCALE:GREGORIAN
BEGIN:VEVENT
UID:307a85703c19a247b1ebbd61784ed54f
DTSTAMP:20260423T054053Z
SUMMARY:JCMI Ann.Mtg
DESCRIPTION:Jewish Federation of Greater Naples\nCommunity Calendar\nhttps:
 //jewishnaples.org/calendar/calendar114\n\n&nbsp
DTSTART;TZID=America/New_York:20150325T190000
DTEND;TZID=America/New_York:20150325T190000
END:VEVENT
END:VCALENDAR
