BEGIN:VCALENDAR
PRODID:-//eluceo/ical//2.0/EN
VERSION:2.0
CALSCALE:GREGORIAN
BEGIN:VEVENT
UID:d66fdb8c8b9b53edb4876089c872116f
DTSTAMP:20260423T144819Z
SUMMARY:JCMI Mah Jongg
DESCRIPTION:Jewish Federation of Greater Naples\nCommunity Calendar\nhttps:
 //jewishnaples.org/calendar/calendar1135\n\n&nbsp
DTSTART;TZID=America/New_York:20150122T110000
DTEND;TZID=America/New_York:20150122T110000
END:VEVENT
END:VCALENDAR
