BEGIN:VCALENDAR
PRODID:-//eluceo/ical//2.0/EN
VERSION:2.0
CALSCALE:GREGORIAN
BEGIN:VEVENT
UID:b85f2ff7d2ce764555ca0c05cac45b2f
DTSTAMP:20260423T141239Z
SUMMARY:JCMI Mah Jongg
DESCRIPTION:Jewish Federation of Greater Naples\nCommunity Calendar\nhttps:
 //jewishnaples.org/calendar/calendar1133\n\n&nbsp
DTSTART;TZID=America/New_York:20150108T110000
DTEND;TZID=America/New_York:20150108T110000
END:VEVENT
END:VCALENDAR
