BEGIN:VCALENDAR
PRODID:-//eluceo/ical//2.0/EN
VERSION:2.0
CALSCALE:GREGORIAN
BEGIN:VEVENT
UID:bcefc6b54aaa9886248e12a26b7daf9e
DTSTAMP:20260423T054623Z
SUMMARY:JCMI Mah Jongg
DESCRIPTION:Jewish Federation of Greater Naples\nCommunity Calendar\nhttps:
 //jewishnaples.org/calendar/calendar1132\n\n&nbsp
DTSTART;TZID=America/New_York:20150101T110000
DTEND;TZID=America/New_York:20150101T110000
END:VEVENT
END:VCALENDAR
