BEGIN:VCALENDAR
PRODID:-//eluceo/ical//2.0/EN
VERSION:2.0
CALSCALE:GREGORIAN
BEGIN:VEVENT
UID:b320b58d29acbb14fe06aad975639b88
DTSTAMP:20260424T064118Z
SUMMARY:JCMI Mah Jongg
DESCRIPTION:Jewish Federation of Greater Naples\nCommunity Calendar\nhttps:
 //jewishnaples.org/calendar/calendar1129\n\n&nbsp
DTSTART;TZID=America/New_York:20141211T110000
DTEND;TZID=America/New_York:20141211T110000
END:VEVENT
END:VCALENDAR
