BEGIN:VCALENDAR
PRODID:-//eluceo/ical//2.0/EN
VERSION:2.0
CALSCALE:GREGORIAN
BEGIN:VEVENT
UID:bb40831fa15e5e35f058edef9b1e9cec
DTSTAMP:20260423T023422Z
SUMMARY:JCMI Mah Jongg
DESCRIPTION:Jewish Federation of Greater Naples\nCommunity Calendar\nhttps:
 //jewishnaples.org/calendar/calendar1125\n\n&nbsp
DTSTART;TZID=America/New_York:20141113T110000
DTEND;TZID=America/New_York:20141113T110000
END:VEVENT
END:VCALENDAR
