BEGIN:VCALENDAR
PRODID:-//eluceo/ical//2.0/EN
VERSION:2.0
CALSCALE:GREGORIAN
BEGIN:VEVENT
UID:84b784051f57fb1dff6282c8f4d222d9
DTSTAMP:20260423T055439Z
SUMMARY:JCMI Mah Jongg
DESCRIPTION:Jewish Federation of Greater Naples\nCommunity Calendar\nhttps:
 //jewishnaples.org/calendar/calendar1122\n\n&nbsp
DTSTART;TZID=America/New_York:20141023T110000
DTEND;TZID=America/New_York:20141023T110000
END:VEVENT
END:VCALENDAR
