BEGIN:VCALENDAR
PRODID:-//eluceo/ical//2.0/EN
VERSION:2.0
CALSCALE:GREGORIAN
BEGIN:VEVENT
UID:1fb06a5362cb30df7fdbd4b2768e61c1
DTSTAMP:20260422T202042Z
SUMMARY:JCMI Mah Jongg
DESCRIPTION:Jewish Federation of Greater Naples\nCommunity Calendar\nhttps:
 //jewishnaples.org/calendar/calendar1121\n\n&nbsp
DTSTART;TZID=America/New_York:20141016T110000
DTEND;TZID=America/New_York:20141016T110000
END:VEVENT
END:VCALENDAR
