BEGIN:VCALENDAR
PRODID:-//eluceo/ical//2.0/EN
VERSION:2.0
CALSCALE:GREGORIAN
BEGIN:VEVENT
UID:96f5d197080b2e6fd25bcd29d0efe45c
DTSTAMP:20260422T152235Z
SUMMARY:JCMI Fam. Seder
DESCRIPTION:Jewish Federation of Greater Naples\nCommunity Calendar\nhttps:
 //jewishnaples.org/calendar/calendar112\n\nSisterhood Family Seder
DTSTART;TZID=America/New_York:20150403T180000
DTEND;TZID=America/New_York:20150403T180000
END:VEVENT
END:VCALENDAR
