BEGIN:VCALENDAR
PRODID:-//eluceo/ical//2.0/EN
VERSION:2.0
CALSCALE:GREGORIAN
BEGIN:VEVENT
UID:2b97a9179ad4121ea16a4be2bcaf7c9a
DTSTAMP:20260423T095155Z
SUMMARY:JCMI Mah Jongg
DESCRIPTION:Jewish Federation of Greater Naples\nCommunity Calendar\nhttps:
 //jewishnaples.org/calendar/calendar1119\n\n&nbsp
DTSTART;TZID=America/New_York:20141002T110000
DTEND;TZID=America/New_York:20141002T110000
END:VEVENT
END:VCALENDAR
