BEGIN:VCALENDAR
PRODID:-//eluceo/ical//2.0/EN
VERSION:2.0
CALSCALE:GREGORIAN
BEGIN:VEVENT
UID:ee8cb557903d63d093a908998f4678dc
DTSTAMP:20260424T124950Z
SUMMARY:JCMI Mah Jongg
DESCRIPTION:Jewish Federation of Greater Naples\nCommunity Calendar\nhttps:
 //jewishnaples.org/calendar/calendar1108\n\n&nbsp
DTSTART;TZID=America/New_York:20140717T110000
DTEND;TZID=America/New_York:20140717T110000
END:VEVENT
END:VCALENDAR
