BEGIN:VCALENDAR
PRODID:-//eluceo/ical//2.0/EN
VERSION:2.0
CALSCALE:GREGORIAN
BEGIN:VEVENT
UID:3fa515990b2e95f5555442ea7e5a8ac6
DTSTAMP:20260423T223955Z
SUMMARY:BT Book Group
DESCRIPTION:Jewish Federation of Greater Naples\nCommunity Calendar\nhttps:
 //jewishnaples.org/calendar/calendar1094\n\n&nbsp
DTSTART;TZID=America/New_York:20150126T193000
DTEND;TZID=America/New_York:20150126T193000
END:VEVENT
END:VCALENDAR
