BEGIN:VCALENDAR
PRODID:-//eluceo/ical//2.0/EN
VERSION:2.0
CALSCALE:GREGORIAN
BEGIN:VEVENT
UID:afd3c9d1b285aa4a6f6b76eb20ec6b8e
DTSTAMP:20260423T160146Z
SUMMARY:BT Book Group
DESCRIPTION:Jewish Federation of Greater Naples\nCommunity Calendar\nhttps:
 //jewishnaples.org/calendar/calendar1091\n\n&nbsp
DTSTART;TZID=America/New_York:20141027T193000
DTEND;TZID=America/New_York:20141027T193000
END:VEVENT
END:VCALENDAR
