BEGIN:VCALENDAR
PRODID:-//eluceo/ical//2.0/EN
VERSION:2.0
CALSCALE:GREGORIAN
BEGIN:VEVENT
UID:ebf502681016a8ccb852c65d10eef3db
DTSTAMP:20260422T015938Z
SUMMARY:BT Book Group
DESCRIPTION:Jewish Federation of Greater Naples\nCommunity Calendar\nhttps:
 //jewishnaples.org/calendar/calendar1090\n\n&nbsp
DTSTART;TZID=America/New_York:20140929T193000
DTEND;TZID=America/New_York:20140929T193000
END:VEVENT
END:VCALENDAR
