BEGIN:VCALENDAR
PRODID:-//eluceo/ical//2.0/EN
VERSION:2.0
CALSCALE:GREGORIAN
BEGIN:VEVENT
UID:038e09280812a38a8a45c0224ed85009
DTSTAMP:20260423T144459Z
SUMMARY:HM Coffee Talk
DESCRIPTION:Jewish Federation of Greater Naples\nCommunity Calendar\nhttps:
 //jewishnaples.org/calendar/calendar109\n\nElliot Katz Part 1
DTSTART;TZID=America/New_York:20150105T110000
DTEND;TZID=America/New_York:20150105T110000
END:VEVENT
END:VCALENDAR
