BEGIN:VCALENDAR
PRODID:-//eluceo/ical//2.0/EN
VERSION:2.0
CALSCALE:GREGORIAN
BEGIN:VEVENT
UID:63865125bac92141086535ab31bd588b
DTSTAMP:20260422T012327Z
SUMMARY:NJC S. Book CLub
DESCRIPTION:Jewish Federation of Greater Naples\nCommunity Calendar\nhttps:
 //jewishnaples.org/calendar/calendar1087\n\n&nbsp
DTSTART;TZID=America/New_York:20150216T120000
DTEND;TZID=America/New_York:20150216T120000
END:VEVENT
END:VCALENDAR
