BEGIN:VCALENDAR
PRODID:-//eluceo/ical//2.0/EN
VERSION:2.0
CALSCALE:GREGORIAN
BEGIN:VEVENT
UID:e4a6b0b172702317f74ca64d746c17e2
DTSTAMP:20260423T053337Z
SUMMARY:NJC S. Book CLub
DESCRIPTION:Jewish Federation of Greater Naples\nCommunity Calendar\nhttps:
 //jewishnaples.org/calendar/calendar1085\n\n&nbsp
DTSTART;TZID=America/New_York:20141215T120000
DTEND;TZID=America/New_York:20141215T120000
END:VEVENT
END:VCALENDAR
