BEGIN:VCALENDAR
PRODID:-//eluceo/ical//2.0/EN
VERSION:2.0
CALSCALE:GREGORIAN
BEGIN:VEVENT
UID:d380f2574d97825dfc19b43640344897
DTSTAMP:20260423T061758Z
SUMMARY:NJC S. Book CLub
DESCRIPTION:Jewish Federation of Greater Naples\nCommunity Calendar\nhttps:
 //jewishnaples.org/calendar/calendar1084\n\n&nbsp
DTSTART;TZID=America/New_York:20141117T120000
DTEND;TZID=America/New_York:20141117T120000
END:VEVENT
END:VCALENDAR
