BEGIN:VCALENDAR
PRODID:-//eluceo/ical//2.0/EN
VERSION:2.0
CALSCALE:GREGORIAN
BEGIN:VEVENT
UID:371ed8e6d556b8880e9f68c19356caf6
DTSTAMP:20260423T010619Z
SUMMARY:NJC S. Book CLub
DESCRIPTION:Jewish Federation of Greater Naples\nCommunity Calendar\nhttps:
 //jewishnaples.org/calendar/calendar1083\n\n&nbsp
DTSTART;TZID=America/New_York:20141020T120000
DTEND;TZID=America/New_York:20141020T120000
END:VEVENT
END:VCALENDAR
