BEGIN:VCALENDAR
PRODID:-//eluceo/ical//2.0/EN
VERSION:2.0
CALSCALE:GREGORIAN
BEGIN:VEVENT
UID:9c8baca5df5bea6fbf6d5c28b2e736af
DTSTAMP:20260423T225931Z
SUMMARY:NJC S. Book CLub
DESCRIPTION:Jewish Federation of Greater Naples\nCommunity Calendar\nhttps:
 //jewishnaples.org/calendar/calendar1080\n\n&nbsp
DTSTART;TZID=America/New_York:20140721T120000
DTEND;TZID=America/New_York:20140721T120000
END:VEVENT
END:VCALENDAR
