BEGIN:VCALENDAR
PRODID:-//eluceo/ical//2.0/EN
VERSION:2.0
CALSCALE:GREGORIAN
BEGIN:VEVENT
UID:e39ea6d6a0bf70b507602e2579b2b453
DTSTAMP:20260423T220413Z
SUMMARY:CJD Steering
DESCRIPTION:Jewish Federation of Greater Naples\nCommunity Calendar\nhttps:
 //jewishnaples.org/calendar/calendar1077\n\n&nbsp
DTSTART;TZID=America/New_York:20150407T133000
DTEND;TZID=America/New_York:20150407T133000
END:VEVENT
END:VCALENDAR
