BEGIN:VCALENDAR
PRODID:-//eluceo/ical//2.0/EN
VERSION:2.0
CALSCALE:GREGORIAN
BEGIN:VEVENT
UID:54d1c1f977cee4cb57842b99def1d318
DTSTAMP:20260423T032856Z
SUMMARY:CJD Steering
DESCRIPTION:Jewish Federation of Greater Naples\nCommunity Calendar\nhttps:
 //jewishnaples.org/calendar/calendar1075\n\n&nbsp
DTSTART;TZID=America/New_York:20150203T133000
DTEND;TZID=America/New_York:20150203T133000
END:VEVENT
END:VCALENDAR
