BEGIN:VCALENDAR
PRODID:-//eluceo/ical//2.0/EN
VERSION:2.0
CALSCALE:GREGORIAN
BEGIN:VEVENT
UID:a71be8d14e27d66a5780ec5d105c953a
DTSTAMP:20260422T113139Z
SUMMARY:CJD Steering
DESCRIPTION:Jewish Federation of Greater Naples\nCommunity Calendar\nhttps:
 //jewishnaples.org/calendar/calendar1073\n\n&nbsp
DTSTART;TZID=America/New_York:20141202T133000
DTEND;TZID=America/New_York:20141202T133000
END:VEVENT
END:VCALENDAR
