BEGIN:VCALENDAR
PRODID:-//eluceo/ical//2.0/EN
VERSION:2.0
CALSCALE:GREGORIAN
BEGIN:VEVENT
UID:a03437778700d70d6ecf7578736f0b8e
DTSTAMP:20260423T192142Z
SUMMARY:CJD Steering
DESCRIPTION:Jewish Federation of Greater Naples\nCommunity Calendar\nhttps:
 //jewishnaples.org/calendar/calendar1071\n\n&nbsp
DTSTART;TZID=America/New_York:20141007T133000
DTEND;TZID=America/New_York:20141007T133000
END:VEVENT
END:VCALENDAR
