BEGIN:VCALENDAR
PRODID:-//eluceo/ical//2.0/EN
VERSION:2.0
CALSCALE:GREGORIAN
BEGIN:VEVENT
UID:6a64c03269e159055bc341ab63c1507f
DTSTAMP:20260423T131719Z
SUMMARY:HM Int. Hol Rem Program
DESCRIPTION:Jewish Federation of Greater Naples\nCommunity Calendar\nhttps:
 //jewishnaples.org/calendar/calendar107\n\nInternational Holocaust Reminis
 cent Day Program
DTSTART;TZID=America/New_York:20150127T100000
DTEND;TZID=America/New_York:20150127T100000
END:VEVENT
END:VCALENDAR
