BEGIN:VCALENDAR
PRODID:-//eluceo/ical//2.0/EN
VERSION:2.0
CALSCALE:GREGORIAN
BEGIN:VEVENT
UID:42e1463fa618954a141cf7dcc4360e18
DTSTAMP:20260423T171043Z
SUMMARY:JCRC Mtg
DESCRIPTION:Jewish Federation of Greater Naples\nCommunity Calendar\nhttps:
 //jewishnaples.org/calendar/calendar1062\n\n&nbsp
DTSTART;TZID=America/New_York:20141105T133000
DTEND;TZID=America/New_York:20141105T133000
END:VEVENT
END:VCALENDAR
