BEGIN:VCALENDAR
PRODID:-//eluceo/ical//2.0/EN
VERSION:2.0
CALSCALE:GREGORIAN
BEGIN:VEVENT
UID:71dbe23282080e5dc0d8ebc0ed8ca15e
DTSTAMP:20260424T050359Z
SUMMARY:BT Adult Ed
DESCRIPTION:Jewish Federation of Greater Naples\nCommunity Calendar\nhttps:
 //jewishnaples.org/calendar/calendar1054\n\nJewish Perspectives
DTSTART;TZID=America/New_York:20150407T121500
DTEND;TZID=America/New_York:20150407T121500
END:VEVENT
END:VCALENDAR
