BEGIN:VCALENDAR
PRODID:-//eluceo/ical//2.0/EN
VERSION:2.0
CALSCALE:GREGORIAN
BEGIN:VEVENT
UID:f1bedbb1b0e4084635c4537337365126
DTSTAMP:20260422T223242Z
SUMMARY:BT Adult Ed
DESCRIPTION:Jewish Federation of Greater Naples\nCommunity Calendar\nhttps:
 //jewishnaples.org/calendar/calendar1049\n\nJewish Perspectives
DTSTART;TZID=America/New_York:20150303T121500
DTEND;TZID=America/New_York:20150303T121500
END:VEVENT
END:VCALENDAR
