BEGIN:VCALENDAR
PRODID:-//eluceo/ical//2.0/EN
VERSION:2.0
CALSCALE:GREGORIAN
BEGIN:VEVENT
UID:f91b3d5b1206865e1b30f860ac5b1962
DTSTAMP:20260419T224520Z
SUMMARY:BT Adult Ed
DESCRIPTION:Jewish Federation of Greater Naples\nCommunity Calendar\nhttps:
 //jewishnaples.org/calendar/calendar1043\n\nJewish Perspectives
DTSTART;TZID=America/New_York:20150120T121500
DTEND;TZID=America/New_York:20150120T121500
END:VEVENT
END:VCALENDAR
