BEGIN:VCALENDAR
PRODID:-//eluceo/ical//2.0/EN
VERSION:2.0
CALSCALE:GREGORIAN
BEGIN:VEVENT
UID:b40dcf8c69f2b79af5850576aed5b668
DTSTAMP:20260423T101032Z
SUMMARY:BT Adult Ed
DESCRIPTION:Jewish Federation of Greater Naples\nCommunity Calendar\nhttps:
 //jewishnaples.org/calendar/calendar1041\n\nJewish Perspectives
DTSTART;TZID=America/New_York:20150106T121500
DTEND;TZID=America/New_York:20150106T121500
END:VEVENT
END:VCALENDAR
