BEGIN:VCALENDAR
PRODID:-//eluceo/ical//2.0/EN
VERSION:2.0
CALSCALE:GREGORIAN
BEGIN:VEVENT
UID:91328f5f1427f1f456667f74e6c8f17a
DTSTAMP:20260424T123243Z
SUMMARY:BT Adult Ed
DESCRIPTION:Jewish Federation of Greater Naples\nCommunity Calendar\nhttps:
 //jewishnaples.org/calendar/calendar1039\n\nJewish Perspectives
DTSTART;TZID=America/New_York:20141223T121500
DTEND;TZID=America/New_York:20141223T121500
END:VEVENT
END:VCALENDAR
