BEGIN:VCALENDAR
PRODID:-//eluceo/ical//2.0/EN
VERSION:2.0
CALSCALE:GREGORIAN
BEGIN:VEVENT
UID:76ff4a666637476accb33332a6622aab
DTSTAMP:20260424T103843Z
SUMMARY:BT Adult Ed
DESCRIPTION:Jewish Federation of Greater Naples\nCommunity Calendar\nhttps:
 //jewishnaples.org/calendar/calendar1035\n\nJewish Perspectives
DTSTART;TZID=America/New_York:20141125T121500
DTEND;TZID=America/New_York:20141125T121500
END:VEVENT
END:VCALENDAR
